BEGIN:VCALENDAR
VERSION:2.0
PRODID:-//Town of Calumet - ECPv6.15.17.1//NONSGML v1.0//EN
CALSCALE:GREGORIAN
METHOD:PUBLISH
X-ORIGINAL-URL:https://townofcalumet.com
X-WR-CALDESC:Events for Town of Calumet
REFRESH-INTERVAL;VALUE=DURATION:PT1H
X-Robots-Tag:noindex
X-PUBLISHED-TTL:PT1H
BEGIN:VTIMEZONE
TZID:America/Chicago
BEGIN:DAYLIGHT
TZOFFSETFROM:-0600
TZOFFSETTO:-0500
TZNAME:CDT
DTSTART:20190310T080000
END:DAYLIGHT
BEGIN:STANDARD
TZOFFSETFROM:-0500
TZOFFSETTO:-0600
TZNAME:CST
DTSTART:20191103T070000
END:STANDARD
BEGIN:DAYLIGHT
TZOFFSETFROM:-0600
TZOFFSETTO:-0500
TZNAME:CDT
DTSTART:20200308T080000
END:DAYLIGHT
BEGIN:STANDARD
TZOFFSETFROM:-0500
TZOFFSETTO:-0600
TZNAME:CST
DTSTART:20201101T070000
END:STANDARD
BEGIN:DAYLIGHT
TZOFFSETFROM:-0600
TZOFFSETTO:-0500
TZNAME:CDT
DTSTART:20210314T080000
END:DAYLIGHT
BEGIN:STANDARD
TZOFFSETFROM:-0500
TZOFFSETTO:-0600
TZNAME:CST
DTSTART:20211107T070000
END:STANDARD
END:VTIMEZONE
BEGIN:VEVENT
DTSTART;TZID=America/Chicago:20200506T100000
DTEND;TZID=America/Chicago:20200506T120000
DTSTAMP:20260421T040448
CREATED:20200305T224524Z
LAST-MODIFIED:20200305T224524Z
UID:8986-1588759200-1588766400@townofcalumet.com
SUMMARY:Town Open Book Meeting
DESCRIPTION:
URL:https://townofcalumet.com/event/town-open-book-meeting-2/
CATEGORIES:Meetings
END:VEVENT
BEGIN:VEVENT
DTSTART;TZID=America/Chicago:20200506T190000
DTEND;TZID=America/Chicago:20200506T190000
DTSTAMP:20260421T040448
CREATED:20200305T224808Z
LAST-MODIFIED:20200305T224808Z
UID:8988-1588791600-1588791600@townofcalumet.com
SUMMARY:Town Board Meeting
DESCRIPTION:
URL:https://townofcalumet.com/event/town-board-meeting-13/
CATEGORIES:Town Board
END:VEVENT
BEGIN:VEVENT
DTSTART;TZID=America/Chicago:20200521T190000
DTEND;TZID=America/Chicago:20200521T190000
DTSTAMP:20260421T040448
CREATED:20200513T143309Z
LAST-MODIFIED:20200513T143309Z
UID:9091-1590087600-1590087600@townofcalumet.com
SUMMARY:Plan Commission Meeting
DESCRIPTION:
URL:https://townofcalumet.com/event/plan-commission-meeting-3/
CATEGORIES:Plan Commission
END:VEVENT
BEGIN:VEVENT
DTSTART;VALUE=DATE:20200525
DTEND;VALUE=DATE:20200526
DTSTAMP:20260421T040448
CREATED:20200404T053932Z
LAST-MODIFIED:20200404T055408Z
UID:9029-1590364800-1590451199@townofcalumet.com
SUMMARY:Memorial Day
DESCRIPTION:
URL:https://townofcalumet.com/event/memorial-day/
CATEGORIES:Holiday
END:VEVENT
BEGIN:VEVENT
DTSTART;TZID=America/Chicago:20200528T173000
DTEND;TZID=America/Chicago:20200528T193000
DTSTAMP:20260421T040448
CREATED:20200305T224118Z
LAST-MODIFIED:20200305T224320Z
UID:8984-1590687000-1590694200@townofcalumet.com
SUMMARY:Town Board of Review
DESCRIPTION:
URL:https://townofcalumet.com/event/town-open-book-meeting/
CATEGORIES:Meetings
END:VEVENT
BEGIN:VEVENT
DTSTART;TZID=America/Chicago:20200530T100000
DTEND;TZID=America/Chicago:20200530T100000
DTSTAMP:20260421T040448
CREATED:20200519T143141Z
LAST-MODIFIED:20200519T143141Z
UID:9103-1590832800-1590832800@townofcalumet.com
SUMMARY:Special Town Board Meeting
DESCRIPTION:
URL:https://townofcalumet.com/event/special-town-board-meeting-6/
CATEGORIES:Town Board
END:VEVENT
END:VCALENDAR