BEGIN:VCALENDAR
VERSION:2.0
PRODID:-//Town of Calumet - ECPv6.15.17.1//NONSGML v1.0//EN
CALSCALE:GREGORIAN
METHOD:PUBLISH
X-ORIGINAL-URL:https://townofcalumet.com
X-WR-CALDESC:Events for Town of Calumet
REFRESH-INTERVAL;VALUE=DURATION:PT1H
X-Robots-Tag:noindex
X-PUBLISHED-TTL:PT1H
BEGIN:VTIMEZONE
TZID:America/Chicago
BEGIN:DAYLIGHT
TZOFFSETFROM:-0600
TZOFFSETTO:-0500
TZNAME:CDT
DTSTART:20180311T080000
END:DAYLIGHT
BEGIN:STANDARD
TZOFFSETFROM:-0500
TZOFFSETTO:-0600
TZNAME:CST
DTSTART:20181104T070000
END:STANDARD
BEGIN:DAYLIGHT
TZOFFSETFROM:-0600
TZOFFSETTO:-0500
TZNAME:CDT
DTSTART:20190310T080000
END:DAYLIGHT
BEGIN:STANDARD
TZOFFSETFROM:-0500
TZOFFSETTO:-0600
TZNAME:CST
DTSTART:20191103T070000
END:STANDARD
BEGIN:DAYLIGHT
TZOFFSETFROM:-0600
TZOFFSETTO:-0500
TZNAME:CDT
DTSTART:20200308T080000
END:DAYLIGHT
BEGIN:STANDARD
TZOFFSETFROM:-0500
TZOFFSETTO:-0600
TZNAME:CST
DTSTART:20201101T070000
END:STANDARD
END:VTIMEZONE
BEGIN:VEVENT
DTSTART;TZID=America/Chicago:20190710T190000
DTEND;TZID=America/Chicago:20190710T190000
DTSTAMP:20260421T151056
CREATED:20191215T213305Z
LAST-MODIFIED:20191215T213407Z
UID:8698-1562785200-1562785200@townofcalumet.com
SUMMARY:Town Board Meeting
DESCRIPTION:
URL:https://townofcalumet.com/event/town-board-meeting-7/
CATEGORIES:Town Board
END:VEVENT
BEGIN:VEVENT
DTSTART;TZID=America/Chicago:20191219T190000
DTEND;TZID=America/Chicago:20191219T190000
DTSTAMP:20260421T151056
CREATED:20191215T215257Z
LAST-MODIFIED:20191215T215257Z
UID:8743-1576782000-1576782000@townofcalumet.com
SUMMARY:Plan Commission
DESCRIPTION:
URL:https://townofcalumet.com/event/plan-commission-2/
CATEGORIES:Plan Commission
END:VEVENT
BEGIN:VEVENT
DTSTART;VALUE=DATE:20191224
DTEND;VALUE=DATE:20191226
DTSTAMP:20260421T151056
CREATED:20191215T215322Z
LAST-MODIFIED:20191215T215322Z
UID:8745-1577145600-1577318399@townofcalumet.com
SUMMARY:Merry Christmas
DESCRIPTION:
URL:https://townofcalumet.com/event/merry-christmas/
CATEGORIES:Holiday
END:VEVENT
BEGIN:VEVENT
DTSTART;TZID=America/Chicago:20191230T070000
DTEND;TZID=America/Chicago:20191230T070000
DTSTAMP:20260421T151056
CREATED:20200206T114142Z
LAST-MODIFIED:20200206T114142Z
UID:8940-1577689200-1577689200@townofcalumet.com
SUMMARY:Town Board Meeting
DESCRIPTION:
URL:https://townofcalumet.com/event/town-board-meeting-10/
CATEGORIES:Town Board
END:VEVENT
BEGIN:VEVENT
DTSTART;TZID=America/Chicago:20191230T190000
DTEND;TZID=America/Chicago:20191230T190000
DTSTAMP:20260421T151056
CREATED:20191215T215356Z
LAST-MODIFIED:20191215T215356Z
UID:8747-1577732400-1577732400@townofcalumet.com
SUMMARY:Town Board Meeting
DESCRIPTION:
URL:https://townofcalumet.com/event/town-board-meeting-8/
CATEGORIES:Town Board
END:VEVENT
END:VCALENDAR