BEGIN:VCALENDAR
VERSION:2.0
PRODID:-//Town of Calumet - ECPv6.15.17.1//NONSGML v1.0//EN
CALSCALE:GREGORIAN
METHOD:PUBLISH
X-WR-CALNAME:Town of Calumet
X-ORIGINAL-URL:https://townofcalumet.com
X-WR-CALDESC:Events for Town of Calumet
REFRESH-INTERVAL;VALUE=DURATION:PT1H
X-Robots-Tag:noindex
X-PUBLISHED-TTL:PT1H
BEGIN:VTIMEZONE
TZID:America/Chicago
BEGIN:DAYLIGHT
TZOFFSETFROM:-0600
TZOFFSETTO:-0500
TZNAME:CDT
DTSTART:20180311T080000
END:DAYLIGHT
BEGIN:STANDARD
TZOFFSETFROM:-0500
TZOFFSETTO:-0600
TZNAME:CST
DTSTART:20181104T070000
END:STANDARD
BEGIN:DAYLIGHT
TZOFFSETFROM:-0600
TZOFFSETTO:-0500
TZNAME:CDT
DTSTART:20190310T080000
END:DAYLIGHT
BEGIN:STANDARD
TZOFFSETFROM:-0500
TZOFFSETTO:-0600
TZNAME:CST
DTSTART:20191103T070000
END:STANDARD
BEGIN:DAYLIGHT
TZOFFSETFROM:-0600
TZOFFSETTO:-0500
TZNAME:CDT
DTSTART:20200308T080000
END:DAYLIGHT
BEGIN:STANDARD
TZOFFSETFROM:-0500
TZOFFSETTO:-0600
TZNAME:CST
DTSTART:20201101T070000
END:STANDARD
END:VTIMEZONE
BEGIN:VEVENT
DTSTART;TZID=America/Chicago:20190710T190000
DTEND;TZID=America/Chicago:20190710T190000
DTSTAMP:20260421T165429
CREATED:20191215T213305Z
LAST-MODIFIED:20191215T213407Z
UID:8698-1562785200-1562785200@townofcalumet.com
SUMMARY:Town Board Meeting
DESCRIPTION:
URL:https://townofcalumet.com/event/town-board-meeting-7/
CATEGORIES:Town Board
END:VEVENT
BEGIN:VEVENT
DTSTART;TZID=America/Chicago:20191116T090000
DTEND;TZID=America/Chicago:20191116T090000
DTSTAMP:20260421T165429
CREATED:20191215T215011Z
LAST-MODIFIED:20191215T215011Z
UID:8733-1573894800-1573894800@townofcalumet.com
SUMMARY:Special Town Board Mtg
DESCRIPTION:
URL:https://townofcalumet.com/event/special-town-board-mtg/
CATEGORIES:Town Board
END:VEVENT
BEGIN:VEVENT
DTSTART;TZID=America/Chicago:20191118T170000
DTEND;TZID=America/Chicago:20191118T180000
DTSTAMP:20260421T165429
CREATED:20191215T215047Z
LAST-MODIFIED:20191215T215047Z
UID:8735-1574096400-1574100000@townofcalumet.com
SUMMARY:Listening Session-Jeremy Thiesfeldt and Dan Feyen
DESCRIPTION:
URL:https://townofcalumet.com/event/listening-session-jeremy-thiesfeldt-and-dan-feyen/
CATEGORIES:Meetings
END:VEVENT
BEGIN:VEVENT
DTSTART;TZID=America/Chicago:20191120T180000
DTEND;TZID=America/Chicago:20191120T180000
DTSTAMP:20260421T165429
CREATED:20191215T215116Z
LAST-MODIFIED:20191215T215116Z
UID:8737-1574272800-1574272800@townofcalumet.com
SUMMARY:Special Town Board Meeting
DESCRIPTION:
URL:https://townofcalumet.com/event/special-town-board-meeting-2/
CATEGORIES:Town Board
END:VEVENT
BEGIN:VEVENT
DTSTART;TZID=America/Chicago:20191122T180000
DTEND;TZID=America/Chicago:20191122T180000
DTSTAMP:20260421T165429
CREATED:20191215T215141Z
LAST-MODIFIED:20191215T215141Z
UID:8739-1574445600-1574445600@townofcalumet.com
SUMMARY:Annual Budget Mtg
DESCRIPTION:
URL:https://townofcalumet.com/event/annual-budget-mtg/
CATEGORIES:Town Board
END:VEVENT
BEGIN:VEVENT
DTSTART;TZID=America/Chicago:20191128T080000
DTEND;TZID=America/Chicago:20191128T170000
DTSTAMP:20260421T165429
CREATED:20191215T215209Z
LAST-MODIFIED:20191215T215209Z
UID:8741-1574928000-1574960400@townofcalumet.com
SUMMARY:Happy Thanksgiving
DESCRIPTION:
URL:https://townofcalumet.com/event/happy-thanksgiving/
CATEGORIES:Holiday
END:VEVENT
END:VCALENDAR