BEGIN:VCALENDAR
VERSION:2.0
PRODID:-//Town of Calumet - ECPv6.15.17.1//NONSGML v1.0//EN
CALSCALE:GREGORIAN
METHOD:PUBLISH
X-ORIGINAL-URL:https://townofcalumet.com
X-WR-CALDESC:Events for Town of Calumet
REFRESH-INTERVAL;VALUE=DURATION:PT1H
X-Robots-Tag:noindex
X-PUBLISHED-TTL:PT1H
BEGIN:VTIMEZONE
TZID:America/Chicago
BEGIN:DAYLIGHT
TZOFFSETFROM:-0600
TZOFFSETTO:-0500
TZNAME:CDT
DTSTART:20180311T080000
END:DAYLIGHT
BEGIN:STANDARD
TZOFFSETFROM:-0500
TZOFFSETTO:-0600
TZNAME:CST
DTSTART:20181104T070000
END:STANDARD
BEGIN:DAYLIGHT
TZOFFSETFROM:-0600
TZOFFSETTO:-0500
TZNAME:CDT
DTSTART:20190310T080000
END:DAYLIGHT
BEGIN:STANDARD
TZOFFSETFROM:-0500
TZOFFSETTO:-0600
TZNAME:CST
DTSTART:20191103T070000
END:STANDARD
BEGIN:DAYLIGHT
TZOFFSETFROM:-0600
TZOFFSETTO:-0500
TZNAME:CDT
DTSTART:20200308T080000
END:DAYLIGHT
BEGIN:STANDARD
TZOFFSETFROM:-0500
TZOFFSETTO:-0600
TZNAME:CST
DTSTART:20201101T070000
END:STANDARD
END:VTIMEZONE
BEGIN:VEVENT
DTSTART;TZID=America/Chicago:20190710T190000
DTEND;TZID=America/Chicago:20190710T190000
DTSTAMP:20260421T182007
CREATED:20191215T213305Z
LAST-MODIFIED:20191215T213407Z
UID:8698-1562785200-1562785200@townofcalumet.com
SUMMARY:Town Board Meeting
DESCRIPTION:
URL:https://townofcalumet.com/event/town-board-meeting-7/
CATEGORIES:Town Board
END:VEVENT
BEGIN:VEVENT
DTSTART;TZID=America/Chicago:20191022T190000
DTEND;TZID=America/Chicago:20191022T190000
DTSTAMP:20260421T182007
CREATED:20191215T214353Z
LAST-MODIFIED:20191215T214353Z
UID:8725-1571770800-1571770800@townofcalumet.com
SUMMARY:Budget Planning
DESCRIPTION:
URL:https://townofcalumet.com/event/budget-planning/
CATEGORIES:Town Board
END:VEVENT
BEGIN:VEVENT
DTSTART;TZID=America/Chicago:20191023T173000
DTEND;TZID=America/Chicago:20191023T190000
DTSTAMP:20260421T182007
CREATED:20191215T214427Z
LAST-MODIFIED:20191215T214427Z
UID:8727-1571851800-1571857200@townofcalumet.com
SUMMARY:ATV/UTV Public Hearing
DESCRIPTION:STR Ordinance Meeting after the ATV/UTV Hearing
URL:https://townofcalumet.com/event/atv-utv-public-hearing/
CATEGORIES:Meetings
END:VEVENT
BEGIN:VEVENT
DTSTART;TZID=America/Chicago:20191029T180000
DTEND;TZID=America/Chicago:20191029T180000
DTSTAMP:20260421T182007
CREATED:20191215T214453Z
LAST-MODIFIED:20191215T214453Z
UID:8729-1572372000-1572372000@townofcalumet.com
SUMMARY:Road Grant Approval
DESCRIPTION:
URL:https://townofcalumet.com/event/road-grant-approval/
CATEGORIES:Meetings
END:VEVENT
BEGIN:VEVENT
DTSTART;TZID=America/Chicago:20191030T180000
DTEND;TZID=America/Chicago:20191030T180000
DTSTAMP:20260421T182007
CREATED:20191215T214520Z
LAST-MODIFIED:20191215T214520Z
UID:8731-1572458400-1572458400@townofcalumet.com
SUMMARY:Budget Planning
DESCRIPTION:
URL:https://townofcalumet.com/event/budget-planning-2/
CATEGORIES:Town Board
END:VEVENT
END:VCALENDAR