BEGIN:VCALENDAR
VERSION:2.0
PRODID:-//Town of Calumet - ECPv6.15.17.1//NONSGML v1.0//EN
CALSCALE:GREGORIAN
METHOD:PUBLISH
X-WR-CALNAME:Town of Calumet
X-ORIGINAL-URL:https://townofcalumet.com
X-WR-CALDESC:Events for Town of Calumet
REFRESH-INTERVAL;VALUE=DURATION:PT1H
X-Robots-Tag:noindex
X-PUBLISHED-TTL:PT1H
BEGIN:VTIMEZONE
TZID:America/Chicago
BEGIN:DAYLIGHT
TZOFFSETFROM:-0600
TZOFFSETTO:-0500
TZNAME:CDT
DTSTART:20170312T080000
END:DAYLIGHT
BEGIN:STANDARD
TZOFFSETFROM:-0500
TZOFFSETTO:-0600
TZNAME:CST
DTSTART:20171105T070000
END:STANDARD
BEGIN:DAYLIGHT
TZOFFSETFROM:-0600
TZOFFSETTO:-0500
TZNAME:CDT
DTSTART:20180311T080000
END:DAYLIGHT
BEGIN:STANDARD
TZOFFSETFROM:-0500
TZOFFSETTO:-0600
TZNAME:CST
DTSTART:20181104T070000
END:STANDARD
BEGIN:DAYLIGHT
TZOFFSETFROM:-0600
TZOFFSETTO:-0500
TZNAME:CDT
DTSTART:20190310T080000
END:DAYLIGHT
BEGIN:STANDARD
TZOFFSETFROM:-0500
TZOFFSETTO:-0600
TZNAME:CST
DTSTART:20191103T070000
END:STANDARD
END:VTIMEZONE
BEGIN:VEVENT
DTSTART;VALUE=DATE:20181201
DTEND;VALUE=DATE:20181202
DTSTAMP:20260422T092028
CREATED:20191215T211833Z
LAST-MODIFIED:20191215T211833Z
UID:8667-1543622400-1543708799@townofcalumet.com
SUMMARY:Nom papers/1st day to circulate
DESCRIPTION:
URL:https://townofcalumet.com/event/nom-papers-1st-day-to-circulate/
CATEGORIES:Election
END:VEVENT
BEGIN:VEVENT
DTSTART;TZID=America/Chicago:20181203T190000
DTEND;TZID=America/Chicago:20181203T190000
DTSTAMP:20260422T092028
CREATED:20191215T212007Z
LAST-MODIFIED:20191215T212007Z
UID:8669-1543863600-1543863600@townofcalumet.com
SUMMARY:Budget Hearing
DESCRIPTION:
URL:https://townofcalumet.com/event/budget-hearing/
CATEGORIES:Town Board
END:VEVENT
BEGIN:VEVENT
DTSTART;TZID=America/Chicago:20181204T190000
DTEND;TZID=America/Chicago:20181204T190000
DTSTAMP:20260422T092028
CREATED:20191215T212203Z
LAST-MODIFIED:20191215T212238Z
UID:8671-1543950000-1543950000@townofcalumet.com
SUMMARY:Town Board Meeting
DESCRIPTION:
URL:https://townofcalumet.com/event/town-board-meeting-4/
CATEGORIES:Town Board
END:VEVENT
BEGIN:VEVENT
DTSTART;TZID=America/Chicago:20180115T171500
DTEND;TZID=America/Chicago:20180115T171500
DTSTAMP:20260422T092028
CREATED:20191215T205113Z
LAST-MODIFIED:20191215T205113Z
UID:8612-1516036500-1516036500@townofcalumet.com
SUMMARY:Calumet SD
DESCRIPTION:
URL:https://townofcalumet.com/event/calumet-sd/
CATEGORIES:Meetings
END:VEVENT
END:VCALENDAR