BEGIN:VCALENDAR
VERSION:2.0
PRODID:-//Town of Calumet - ECPv6.15.17.1//NONSGML v1.0//EN
CALSCALE:GREGORIAN
METHOD:PUBLISH
X-ORIGINAL-URL:https://townofcalumet.com
X-WR-CALDESC:Events for Town of Calumet
REFRESH-INTERVAL;VALUE=DURATION:PT1H
X-Robots-Tag:noindex
X-PUBLISHED-TTL:PT1H
BEGIN:VTIMEZONE
TZID:America/Chicago
BEGIN:DAYLIGHT
TZOFFSETFROM:-0600
TZOFFSETTO:-0500
TZNAME:CDT
DTSTART:20170312T080000
END:DAYLIGHT
BEGIN:STANDARD
TZOFFSETFROM:-0500
TZOFFSETTO:-0600
TZNAME:CST
DTSTART:20171105T070000
END:STANDARD
BEGIN:DAYLIGHT
TZOFFSETFROM:-0600
TZOFFSETTO:-0500
TZNAME:CDT
DTSTART:20180311T080000
END:DAYLIGHT
BEGIN:STANDARD
TZOFFSETFROM:-0500
TZOFFSETTO:-0600
TZNAME:CST
DTSTART:20181104T070000
END:STANDARD
BEGIN:DAYLIGHT
TZOFFSETFROM:-0600
TZOFFSETTO:-0500
TZNAME:CDT
DTSTART:20190310T080000
END:DAYLIGHT
BEGIN:STANDARD
TZOFFSETFROM:-0500
TZOFFSETTO:-0600
TZNAME:CST
DTSTART:20191103T070000
END:STANDARD
END:VTIMEZONE
BEGIN:VEVENT
DTSTART;TZID=America/Chicago:20181106T070000
DTEND;TZID=America/Chicago:20181106T200000
DTSTAMP:20260422T104503
CREATED:20191215T210729Z
LAST-MODIFIED:20191215T210729Z
UID:8661-1541487600-1541534400@townofcalumet.com
SUMMARY:General Election
DESCRIPTION:
URL:https://townofcalumet.com/event/general-election/
CATEGORIES:Election
END:VEVENT
BEGIN:VEVENT
DTSTART;TZID=America/Chicago:20181108T190000
DTEND;TZID=America/Chicago:20181108T190000
DTSTAMP:20260422T104503
CREATED:20191215T210801Z
LAST-MODIFIED:20191215T210801Z
UID:8663-1541703600-1541703600@townofcalumet.com
SUMMARY:Town Bd Meeting - Cancelled
DESCRIPTION:
URL:https://townofcalumet.com/event/town-bd-meeting-cancelled/
CATEGORIES:Town Board
END:VEVENT
BEGIN:VEVENT
DTSTART;TZID=America/Chicago:20181115T190000
DTEND;TZID=America/Chicago:20181115T190000
DTSTAMP:20260422T104503
CREATED:20191215T210839Z
LAST-MODIFIED:20191215T210839Z
UID:8665-1542308400-1542308400@townofcalumet.com
SUMMARY:Bdgt Mtg/Hearing - Cancelled
DESCRIPTION:
URL:https://townofcalumet.com/event/bdgt-mtg-hearing-cancelled/
CATEGORIES:Town Board
END:VEVENT
BEGIN:VEVENT
DTSTART;TZID=America/Chicago:20180115T171500
DTEND;TZID=America/Chicago:20180115T171500
DTSTAMP:20260422T104503
CREATED:20191215T205113Z
LAST-MODIFIED:20191215T205113Z
UID:8612-1516036500-1516036500@townofcalumet.com
SUMMARY:Calumet SD
DESCRIPTION:
URL:https://townofcalumet.com/event/calumet-sd/
CATEGORIES:Meetings
END:VEVENT
END:VCALENDAR