BEGIN:VCALENDAR
VERSION:2.0
PRODID:-//Town of Calumet - ECPv6.15.17.1//NONSGML v1.0//EN
CALSCALE:GREGORIAN
METHOD:PUBLISH
X-WR-CALNAME:Town of Calumet
X-ORIGINAL-URL:https://townofcalumet.com
X-WR-CALDESC:Events for Town of Calumet
REFRESH-INTERVAL;VALUE=DURATION:PT1H
X-Robots-Tag:noindex
X-PUBLISHED-TTL:PT1H
BEGIN:VTIMEZONE
TZID:America/Chicago
BEGIN:DAYLIGHT
TZOFFSETFROM:-0600
TZOFFSETTO:-0500
TZNAME:CDT
DTSTART:20170312T080000
END:DAYLIGHT
BEGIN:STANDARD
TZOFFSETFROM:-0500
TZOFFSETTO:-0600
TZNAME:CST
DTSTART:20171105T070000
END:STANDARD
BEGIN:DAYLIGHT
TZOFFSETFROM:-0600
TZOFFSETTO:-0500
TZNAME:CDT
DTSTART:20180311T080000
END:DAYLIGHT
BEGIN:STANDARD
TZOFFSETFROM:-0500
TZOFFSETTO:-0600
TZNAME:CST
DTSTART:20181104T070000
END:STANDARD
BEGIN:DAYLIGHT
TZOFFSETFROM:-0600
TZOFFSETTO:-0500
TZNAME:CDT
DTSTART:20190310T080000
END:DAYLIGHT
BEGIN:STANDARD
TZOFFSETFROM:-0500
TZOFFSETTO:-0600
TZNAME:CST
DTSTART:20191103T070000
END:STANDARD
END:VTIMEZONE
BEGIN:VEVENT
DTSTART;TZID=America/Chicago:20180403T070000
DTEND;TZID=America/Chicago:20180403T200000
DTSTAMP:20260422T200845
CREATED:20191215T205555Z
LAST-MODIFIED:20191215T205555Z
UID:8631-1522738800-1522785600@townofcalumet.com
SUMMARY:Spring Election
DESCRIPTION:
URL:https://townofcalumet.com/event/spring-election/
CATEGORIES:Election
END:VEVENT
BEGIN:VEVENT
DTSTART;TZID=America/Chicago:20180405T190000
DTEND;TZID=America/Chicago:20180405T190000
DTSTAMP:20260422T200845
CREATED:20191215T205632Z
LAST-MODIFIED:20191215T205632Z
UID:8633-1522954800-1522954800@townofcalumet.com
SUMMARY:Town Board Meeting
DESCRIPTION:
URL:https://townofcalumet.com/event/town-board-meeting-2/
CATEGORIES:Town Board
END:VEVENT
BEGIN:VEVENT
DTSTART;TZID=America/Chicago:20180417T190000
DTEND;TZID=America/Chicago:20180417T190000
DTSTAMP:20260422T200845
CREATED:20191215T205712Z
LAST-MODIFIED:20191215T205712Z
UID:8635-1523991600-1523991600@townofcalumet.com
SUMMARY:Annual Town Meeting
DESCRIPTION:
URL:https://townofcalumet.com/event/annual-town-meeting/
CATEGORIES:Town Board
END:VEVENT
BEGIN:VEVENT
DTSTART;TZID=America/Chicago:20180419T190000
DTEND;TZID=America/Chicago:20180419T190000
DTSTAMP:20260422T200845
CREATED:20191215T210019Z
LAST-MODIFIED:20191215T210019Z
UID:8637-1524164400-1524164400@townofcalumet.com
SUMMARY:Board of Appeals
DESCRIPTION:
URL:https://townofcalumet.com/event/board-of-appeals/
CATEGORIES:Town Board
END:VEVENT
END:VCALENDAR